BEGIN:VCALENDAR
VERSION:2.0
PRODID:-//Horsham Brewery &amp; Taproom - ECPv6.15.20//NONSGML v1.0//EN
CALSCALE:GREGORIAN
METHOD:PUBLISH
X-WR-CALNAME:Horsham Brewery &amp; Taproom
X-ORIGINAL-URL:https://horshambrewery.com
X-WR-CALDESC:Events for Horsham Brewery &amp; Taproom
REFRESH-INTERVAL;VALUE=DURATION:PT1H
X-Robots-Tag:noindex
X-PUBLISHED-TTL:PT1H
BEGIN:VTIMEZONE
TZID:Europe/Paris
BEGIN:DAYLIGHT
TZOFFSETFROM:+0100
TZOFFSETTO:+0200
TZNAME:CEST
DTSTART:20250330T010000
END:DAYLIGHT
BEGIN:STANDARD
TZOFFSETFROM:+0200
TZOFFSETTO:+0100
TZNAME:CET
DTSTART:20251026T010000
END:STANDARD
BEGIN:DAYLIGHT
TZOFFSETFROM:+0100
TZOFFSETTO:+0200
TZNAME:CEST
DTSTART:20260329T010000
END:DAYLIGHT
BEGIN:STANDARD
TZOFFSETFROM:+0200
TZOFFSETTO:+0100
TZNAME:CET
DTSTART:20261025T010000
END:STANDARD
BEGIN:DAYLIGHT
TZOFFSETFROM:+0100
TZOFFSETTO:+0200
TZNAME:CEST
DTSTART:20270328T010000
END:DAYLIGHT
BEGIN:STANDARD
TZOFFSETFROM:+0200
TZOFFSETTO:+0100
TZNAME:CET
DTSTART:20271031T010000
END:STANDARD
END:VTIMEZONE
BEGIN:VEVENT
DTSTART;TZID=Europe/Paris:20260516T190000
DTEND;TZID=Europe/Paris:20260517T010000
DTSTAMP:20260423T035915
CREATED:20260422T143205Z
LAST-MODIFIED:20260422T143205Z
UID:4319-1778958000-1778979600@horshambrewery.com
SUMMARY:Eurovision 2026
DESCRIPTION:Join us for our hugely popular Eurovision live watch along at Horsham Brewery! \nTicket includes a free pint of HBC beer or small glass of wine! \nFancy dress not required but is encouraged.
URL:https://horshambrewery.com/event/eurovision-2026/
LOCATION:Horsham Brewery\, 22 Blatchford Close\, Horsham\, RH13 5RG\, United Kingdom
CATEGORIES:Eurovision
END:VEVENT
END:VCALENDAR