BEGIN:VCALENDAR
VERSION:2.0
PRODID:-//Horsham Brewery &amp; Taproom - ECPv6.15.20//NONSGML v1.0//EN
CALSCALE:GREGORIAN
METHOD:PUBLISH
X-WR-CALNAME:Horsham Brewery &amp; Taproom
X-ORIGINAL-URL:https://horshambrewery.com
X-WR-CALDESC:Events for Horsham Brewery &amp; Taproom
REFRESH-INTERVAL;VALUE=DURATION:PT1H
X-Robots-Tag:noindex
X-PUBLISHED-TTL:PT1H
BEGIN:VTIMEZONE
TZID:Europe/Paris
BEGIN:DAYLIGHT
TZOFFSETFROM:+0100
TZOFFSETTO:+0200
TZNAME:CEST
DTSTART:20250330T010000
END:DAYLIGHT
BEGIN:STANDARD
TZOFFSETFROM:+0200
TZOFFSETTO:+0100
TZNAME:CET
DTSTART:20251026T010000
END:STANDARD
BEGIN:DAYLIGHT
TZOFFSETFROM:+0100
TZOFFSETTO:+0200
TZNAME:CEST
DTSTART:20260329T010000
END:DAYLIGHT
BEGIN:STANDARD
TZOFFSETFROM:+0200
TZOFFSETTO:+0100
TZNAME:CET
DTSTART:20261025T010000
END:STANDARD
BEGIN:DAYLIGHT
TZOFFSETFROM:+0100
TZOFFSETTO:+0200
TZNAME:CEST
DTSTART:20270328T010000
END:DAYLIGHT
BEGIN:STANDARD
TZOFFSETFROM:+0200
TZOFFSETTO:+0100
TZNAME:CET
DTSTART:20271031T010000
END:STANDARD
END:VTIMEZONE
BEGIN:VEVENT
DTSTART;TZID=Europe/Paris:20260306T200000
DTEND;TZID=Europe/Paris:20260306T220000
DTSTAMP:20260419T205349
CREATED:20260304T195201Z
LAST-MODIFIED:20260304T195201Z
UID:4258-1772827200-1772834400@horshambrewery.com
SUMMARY:Six Nations - Ireland vs Wales
DESCRIPTION:Ireland\n\n\n\n\nVS\n\n\n\n\nWales
URL:https://horshambrewery.com/event/six-nations-ireland-vs-wales/
LOCATION:Horsham Brewery\, 22 Blatchford Close\, Horsham\, RH13 5RG\, United Kingdom
CATEGORIES:sport
END:VEVENT
BEGIN:VEVENT
DTSTART;TZID=Europe/Paris:20260307T140000
DTEND;TZID=Europe/Paris:20260307T160000
DTSTAMP:20260419T205349
CREATED:20260304T195324Z
LAST-MODIFIED:20260304T195417Z
UID:4261-1772892000-1772899200@horshambrewery.com
SUMMARY:Six Nations - Scotland vs France
DESCRIPTION:Scotland\n\n\n\n\nVS\n\n\n\n\nFrance
URL:https://horshambrewery.com/event/six-nations-scotland-vs-france/
LOCATION:Horsham Brewery\, 22 Blatchford Close\, Horsham\, RH13 5RG\, United Kingdom
CATEGORIES:sport
END:VEVENT
BEGIN:VEVENT
DTSTART;TZID=Europe/Paris:20260307T163000
DTEND;TZID=Europe/Paris:20260307T183000
DTSTAMP:20260419T205349
CREATED:20260304T195542Z
LAST-MODIFIED:20260304T195542Z
UID:4265-1772901000-1772908200@horshambrewery.com
SUMMARY:Six Nations - Italy vs England
DESCRIPTION:Italy\n\n\n\n\nVS\n\n\n\n\nEngland
URL:https://horshambrewery.com/event/six-nations-italy-vs-england/
LOCATION:Horsham Brewery\, 22 Blatchford Close\, Horsham\, RH13 5RG\, United Kingdom
CATEGORIES:sport
END:VEVENT
BEGIN:VEVENT
DTSTART;TZID=Europe/Paris:20260314T140000
DTEND;TZID=Europe/Paris:20260314T220000
DTSTAMP:20260419T205349
CREATED:20260312T201831Z
LAST-MODIFIED:20260312T201913Z
UID:4269-1773496800-1773525600@horshambrewery.com
SUMMARY:Six Nations - Super Saturday
DESCRIPTION:Six Nations \nIreland versus Scotland\, 14:10 \nWales versus Italy\, 16:40 \nFrance versus England\, 20:10
URL:https://horshambrewery.com/event/six-nations-super-saturday-2/
LOCATION:Horsham Brewery\, 22 Blatchford Close\, Horsham\, RH13 5RG\, United Kingdom
CATEGORIES:sport
END:VEVENT
END:VCALENDAR